BEGIN:VCALENDAR
VERSION:2.0
PRODID:icalendar-ruby
CALSCALE:GREGORIAN
X-WR-TIMEZONE:Europe/Helsinki
BEGIN:VTIMEZONE
TZID:Europe/Helsinki
BEGIN:DAYLIGHT
DTSTART:20260329T040000
TZOFFSETFROM:+0200
TZOFFSETTO:+0300
RRULE:FREQ=YEARLY;BYDAY=-1SU;BYMONTH=3
TZNAME:EEST
END:DAYLIGHT
BEGIN:STANDARD
DTSTART:20261025T030000
TZOFFSETFROM:+0300
TZOFFSETTO:+0200
RRULE:FREQ=YEARLY;BYDAY=-1SU;BYMONTH=10
TZNAME:EET
END:STANDARD
END:VTIMEZONE
BEGIN:VEVENT
DTSTAMP:20260421T150146
UID:helsinginsuunnistajat.myclub.fi-10606391
DTSTART;TZID=Europe/Helsinki:20260414T180000
DTEND;TZID=Europe/Helsinki:20260414T180000
DESCRIPTION:Tervetuloa mukaan Hippo-suunnistuskouluun \nHelsingin Suunnista
 jien järjestämä Hippo-suunnistuskoulu sopii lajista kiinnostuneille ja 
 jo lajiin tutustuneille 5 – 13 vuotiaille lapsille ja nuorille. Hippo su
 unnistuskoulu kestää huhtikuun puolivälistä kesäkuun loppuun. Kesäku
 un jälkeen siirrytään lapsi/nuori siirtyy HS Junnuihin. Hippo-suunnistu
 skoulun ja HS Junnujen pääharjoitus on tiistaisin klo 18 vaihtuvissa pai
 koissa.\nSuunnistuskoulussa harjoitellaan suunnistuksen perustaitoja ja li
 ikutaan monipuolisesti\, monenlaisissa ympäristöissä erilaisten harjoit
 teiden avulla. Hippo-suunnistuskoulun tavoitteena on antaa perusvalmiuksia
  suunnistusharrastuksen aloittamiseen. Samalla lapsi tai nuori pääsee mu
 kaan mukaan Helsingin Suunnistajien toimintaan.\nOpas uudelle harrastajall
 e Toimi näin:   Paina "Ilmoittaudu" oikeasta yläkulmasta.  Sinut kytket
 ään automaattisesti jäsenpalvelun ryhmään "uudet HS Junnut" (Hippo-su
 unnistuskoululainen on myös HS Junnut ryhmäläinen)  Näet ryhmän tiedo
 tteet ja kalenterin jäsenpalvelussa  Lue HS Junnut ryhmän toimintaohjeet
    Ilmoittautuminen huoltajalle\, joka ei ole seuran jäsen \nVoit ilmoitt
 autua jäsenpalveluun lapsen / nuorten huoltajana\, jos et ole seuran jäs
 en. Se onnistuu tämän linkin kautta. Hippo-suunnistuskoulun ja HS Junnuj
 en ryhmämaksu \nHippo-suunnistuskoulun varausmaksu 30 euroa maksetaan ilm
 oittautumisen yhteydessä. Varausmaksusta lähtee lasku jäsenpalvelun kau
 tta heti ilmoittautumisen jälkeen ja se tulee maksaa viikon sisällä ilm
 oittautumisesta. Maksun voi maksaa myös Mobilepaylla\, numeroon #21617 (s
 uunnistuskoulu) Ilmoita Mobilepay maksusta laskut@helsinginsuunnistajat.fi
 \, niin lasku myClubissa mitätöidään.\nKaksi viikkoa suunnistuskoulun 
 alkamisen jälkeen (28.4.) lähtee HS Junnujen ryhmämaksun loppusumma 100
  euroa jäsenpalvelun kautta. Jos lapsi tai nuori ei halua jatkaa kahden v
 iikon kokeilun jälkeen\, voi tästä ilmoittaa toiminnanjohtaja@helsingin
 suunnistajat.fi\, tällöin emme lähetä loppusummaa ryhmämaksusta. Lopp
 uryhmämaksun maksamisen yhteydessä tulee liittyä myös Helsingin Suunni
 stajien jäseneksi. Ilmoittaudu jäseneksi. becoming a member\nRyhmämaksu
  130 euroa (30 + 100) sisältää kalenterivuoden HS Junnujen harjoitukset
  ja ohjauksen\, normaalit osanottomaksut alueen Kompassitapahtumiin ja kan
 sallisiin kisoihin\, osallistumisen tuettuun hintaan leireille ja kilpailu
 matkoille ja Suunnistusliiton lisenssin (ei vakuutusta).\nLisäksi kevää
 llä ja elokuusta aloittaneet saavat suunnistuksen aloituspaketin. Aloitus
 paketti sisältää Oravat\, Ketut ja Sudet -paidan ja HIPPO suunnistusvih
 on Kilpailulisenssi \nSeura hankkii kaikille 14-vuotiaille ja nuoremmille 
 seuran jäsenille kilpailulisenssin. Lisenssin hankintaa varten tarvitsee 
 kirjautua SuomiSporttiin.\nTarvittaessa kysy lisää: Anu Pikkarainen\, 04
 5 657 9455\, anu.pikkarainen@helsinginsuunnistajat.fi\nhttps://sslkoulutus
 .fi/ohjaajanopas/uudelle/\n \n\nhttps://helsinginsuunnistajat.myclub.fi/fl
 ow/events/10606391
LOCATION:(Paikka tapahtuman kuvauksessa)\, 
SEQUENCE:0
SUMMARY:Uudet HS Junnut: Hippo-suunnistuskoulu 2/2026
URL;VALUE=URI:https://helsinginsuunnistajat.myclub.fi/flow/events/10606391
END:VEVENT
END:VCALENDAR
